BEGIN:VCALENDAR
VERSION:2.0
PRODID:icalendar-ruby
CALSCALE:GREGORIAN
METHOD:PUBLISH
BEGIN:VEVENT
DTSTAMP:20260421T170855Z
UID:5-392789@lswc.org
DTSTART:20261101T150000Z
DTEND:20261101T160000Z
CLASS:PUBLIC
CREATED:20260421T130735
DESCRIPTION:Sunday Worship
LAST-MODIFIED:20260421T130735
LOCATION:
SUMMARY:Sunday Worship
URL;VALUE=URI:https://www.lswc.org/events/sunday-worship/2026-11-01
END:VEVENT
END:VCALENDAR
