BEGIN:VCALENDAR
VERSION:2.0
PRODID:icalendar-ruby
CALSCALE:GREGORIAN
METHOD:PUBLISH
BEGIN:VEVENT
DTSTAMP:20260421T155024Z
UID:5-392527@lswc.org
DTSTART:20261025T140000Z
DTEND:20261025T150000Z
CLASS:PUBLIC
CREATED:20260421T102811
DESCRIPTION:Sunday Worship
LAST-MODIFIED:20260421T102811
LOCATION:
SUMMARY:Sunday Worship
URL;VALUE=URI:https://www.lswc.org/events/sunday-worship/2026-10-25
END:VEVENT
END:VCALENDAR
