BEGIN:VCALENDAR
VERSION:2.0
PRODID:icalendar-ruby
CALSCALE:GREGORIAN
METHOD:PUBLISH
BEGIN:VEVENT
DTSTAMP:20260421T094837Z
UID:5-392001@lswc.org
DTSTART:20260927T140000Z
DTEND:20260927T150000Z
CLASS:PUBLIC
CREATED:20260420T204558
DESCRIPTION:Sunday Worship
LAST-MODIFIED:20260420T204558
LOCATION:
SUMMARY:Sunday Worship
URL;VALUE=URI:https://www.lswc.org/events/sunday-worship/2026-09-27
END:VEVENT
END:VCALENDAR
