BEGIN:VCALENDAR
VERSION:2.0
PRODID:icalendar-ruby
CALSCALE:GREGORIAN
METHOD:PUBLISH
BEGIN:VEVENT
DTSTAMP:20260421T043735Z
UID:5-391997@lswc.org
DTSTART:20260830T140000Z
DTEND:20260830T150000Z
CLASS:PUBLIC
CREATED:20260420T204558
DESCRIPTION:Sunday Worship
LAST-MODIFIED:20260420T204558
LOCATION:
SUMMARY:Sunday Worship
URL;VALUE=URI:https://www.lswc.org/events/sunday-worship/2026-08-30
END:VEVENT
END:VCALENDAR
